BEGIN:VCALENDAR
VERSION:2.0
PRODID:-//http://www.warwickshireldc.org//NONSGML kigkonsult.se iCalcreator 2.10.23//
METHOD:PUBLISH
X-WR-CALNAME:JCal Pro Calendar
X-WR-CALDESC:Your online events calendar
X-WR-TIMEZONE:Europe/London
BEGIN:VEVENT
UID:20140707T181500UTC-7336cd@http://www.warwickshireldc.org/
DTSTAMP:20260419T172356Z
DESCRIPTION:<p>\n	LocationÂ  Clarendon Arms Hotel\, Kenilworth</p>\n<p>\n	T
 ime 7.15pm</p>\n<p>\n	All members welcome.Â  Please notify Les Yeates if y
 ou intend to come at <a href='mailto:l.yeates@warwickshireldc.org'>l.yeate
 s@warwickshireldc.org</a></p>\n
DTSTART:20140707T000000Z
SUMMARY:Warwickshire LDC meeting
END:VEVENT
END:VCALENDAR
