BEGIN:VCALENDAR
VERSION:2.0
PRODID:-//http://www.warwickshireldc.org//NONSGML kigkonsult.se iCalcreator 2.10.23//
METHOD:PUBLISH
X-WR-CALNAME:JCal Pro Calendar
X-WR-CALDESC:Your online events calendar
X-WR-TIMEZONE:Europe/London
BEGIN:VEVENT
UID:20150316T191500UTC-3694f7@http://www.warwickshireldc.org/
DTSTAMP:20260419T234804Z
DESCRIPTION:<p>\n	Location:  Clarendon Arms Hotel\, Kenilworth</p>\n<p>\n	T
 ime 7.15pm</p>\n<p>\n	All members welcome.  Please notify us if you intend
  to come at: <a href='mailto:info@warwickshireldc.org'>info@warwickshireld
 c.org</a></p>\n
DTSTART:20150316T000000Z
SUMMARY:Warwickshire LDC meeting
END:VEVENT
END:VCALENDAR
