BEGIN:VCALENDAR
VERSION:2.0
PRODID:-//http://www.warwickshireldc.org//NONSGML kigkonsult.se iCalcreator 2.10.23//
METHOD:PUBLISH
X-WR-CALNAME:JCal Pro Calendar
X-WR-CALDESC:Your online events calendar
X-WR-TIMEZONE:Europe/London
BEGIN:VEVENT
UID:20140908T181500UTC-c497b4@http://www.warwickshireldc.org/
DTSTAMP:20260420T031010Z
DESCRIPTION:<p>\n	Location  Clarendon Arms Hotel\, Kenilworth</p>\n<p>\n	Ti
 me 7.15pm</p>\n<p>\n	All members welcome.  Please notify us if you intend 
 to come at <a href='mailto:l.yeates@warwickshireldc.org'>info@warwickshire
 ldc.org</a></p>\n
DTSTART:20140908T000000Z
SUMMARY:Warwickshire LDC meeting
END:VEVENT
END:VCALENDAR
